BEGIN:VCALENDAR
VERSION:2.0
PRODID:-//Tolleshunt D&#039;Arcy Parish Council - ECPv6.15.11//NONSGML v1.0//EN
CALSCALE:GREGORIAN
METHOD:PUBLISH
X-ORIGINAL-URL:https://www.tolleshuntdarcyparishcouncil.gov.uk
X-WR-CALDESC:Events for Tolleshunt D&#039;Arcy Parish Council
REFRESH-INTERVAL;VALUE=DURATION:PT1H
X-Robots-Tag:noindex
X-PUBLISHED-TTL:PT1H
BEGIN:VTIMEZONE
TZID:UTC
BEGIN:STANDARD
TZOFFSETFROM:+0000
TZOFFSETTO:+0000
TZNAME:UTC
DTSTART:20200101T000000
END:STANDARD
END:VTIMEZONE
BEGIN:VEVENT
DTSTART;TZID=UTC:20230829T193000
DTEND;TZID=UTC:20230829T213000
DTSTAMP:20260422T171936
CREATED:20230523T110955Z
LAST-MODIFIED:20230824T203123Z
UID:2979-1693337400-1693344600@www.tolleshuntdarcyparishcouncil.gov.uk
SUMMARY:PARISH COUNCIL MEETING - CANCELLED
DESCRIPTION:
URL:https://www.tolleshuntdarcyparishcouncil.gov.uk/event/parish-council-meeting-38/
LOCATION:Back Room\, Tolleshunt D’Arcy Village Hall\, Tollesbury Road
END:VEVENT
BEGIN:VEVENT
DTSTART;TZID=UTC:20230725T193000
DTEND;TZID=UTC:20230725T213000
DTSTAMP:20260422T171936
CREATED:20230523T110911Z
LAST-MODIFIED:20230523T110911Z
UID:2977-1690313400-1690320600@www.tolleshuntdarcyparishcouncil.gov.uk
SUMMARY:PARISH COUNCIL MEETING
DESCRIPTION:
URL:https://www.tolleshuntdarcyparishcouncil.gov.uk/event/parish-council-meeting-37/
LOCATION:Back Room\, Tolleshunt D’Arcy Village Hall\, Tollesbury Road
END:VEVENT
BEGIN:VEVENT
DTSTART;TZID=UTC:20230628T193000
DTEND;TZID=UTC:20230628T213000
DTSTAMP:20260422T171936
CREATED:20230524T125543Z
LAST-MODIFIED:20230524T125543Z
UID:3007-1687980600-1687987800@www.tolleshuntdarcyparishcouncil.gov.uk
SUMMARY:PARISH COUNCIL MEETING
DESCRIPTION:
URL:https://www.tolleshuntdarcyparishcouncil.gov.uk/event/parish-council-meeting-47/
LOCATION:Back Room\, Tolleshunt D’Arcy Village Hall\, Tollesbury Road
END:VEVENT
BEGIN:VEVENT
DTSTART;TZID=UTC:20230530T193000
DTEND;TZID=UTC:20230530T213000
DTSTAMP:20260422T171936
CREATED:20230523T110830Z
LAST-MODIFIED:20230523T110830Z
UID:2975-1685475000-1685482200@www.tolleshuntdarcyparishcouncil.gov.uk
SUMMARY:PARISH COUNCIL MEETING
DESCRIPTION:
URL:https://www.tolleshuntdarcyparishcouncil.gov.uk/event/parish-council-meeting-36/
LOCATION:Back Room\, Tolleshunt D’Arcy Village Hall\, Tollesbury Road
ORGANIZER;CN="Tolleshunt D'Arcy Parish Council":MAILTO:clerk@tolleshuntdarcyparishcouncil.gov.uk
END:VEVENT
BEGIN:VEVENT
DTSTART;TZID=UTC:20230519T190000
DTEND;TZID=UTC:20230519T210000
DTSTAMP:20260422T171936
CREATED:20230411T102829Z
LAST-MODIFIED:20230411T102829Z
UID:2928-1684522800-1684530000@www.tolleshuntdarcyparishcouncil.gov.uk
SUMMARY:PARISH ANNUAL ASSEMBLY
DESCRIPTION:
URL:https://www.tolleshuntdarcyparishcouncil.gov.uk/event/parish-annual-assembly-2/
LOCATION:Tolleshunt D’Arcy Village Hall\, Tollesbury Road\, Tolleshunt D'Arcy\, United Kingdom
ORGANIZER;CN="Tolleshunt D'Arcy Parish Council":MAILTO:clerk@tolleshuntdarcyparishcouncil.gov.uk
END:VEVENT
BEGIN:VEVENT
DTSTART;TZID=UTC:20230517T193000
DTEND;TZID=UTC:20230517T213000
DTSTAMP:20260422T171936
CREATED:20230411T102545Z
LAST-MODIFIED:20230510T162503Z
UID:2925-1684351800-1684359000@www.tolleshuntdarcyparishcouncil.gov.uk
SUMMARY:PARISH COUNCIL ANNUAL STATUTORY MEETING
DESCRIPTION:
URL:https://www.tolleshuntdarcyparishcouncil.gov.uk/event/parish-council-annual-statutory-meeting/
LOCATION:Back Room\, Tolleshunt D’Arcy Village Hall\, Tollesbury Road
ORGANIZER;CN="Tolleshunt D'Arcy Parish Council":MAILTO:clerk@tolleshuntdarcyparishcouncil.gov.uk
END:VEVENT
BEGIN:VEVENT
DTSTART;TZID=UTC:20230425T193000
DTEND;TZID=UTC:20230425T210000
DTSTAMP:20260422T171936
CREATED:20220504T140915Z
LAST-MODIFIED:20220504T140915Z
UID:2338-1682451000-1682456400@www.tolleshuntdarcyparishcouncil.gov.uk
SUMMARY:PARISH COUNCIL MEETING
DESCRIPTION:
URL:https://www.tolleshuntdarcyparishcouncil.gov.uk/event/parish-council-meeting-34/
LOCATION:Back Room\, Tolleshunt D’Arcy Village Hall\, Tollesbury Road
END:VEVENT
BEGIN:VEVENT
DTSTART;TZID=UTC:20230328T193000
DTEND;TZID=UTC:20230328T210000
DTSTAMP:20260422T171936
CREATED:20220504T140834Z
LAST-MODIFIED:20220504T140834Z
UID:2336-1680031800-1680037200@www.tolleshuntdarcyparishcouncil.gov.uk
SUMMARY:PARISH COUNCIL MEETING
DESCRIPTION:
URL:https://www.tolleshuntdarcyparishcouncil.gov.uk/event/parish-council-meeting-33/
LOCATION:Back Room\, Tolleshunt D’Arcy Village Hall\, Tollesbury Road
END:VEVENT
BEGIN:VEVENT
DTSTART;TZID=UTC:20230228T193000
DTEND;TZID=UTC:20230228T210000
DTSTAMP:20260422T171936
CREATED:20220504T140750Z
LAST-MODIFIED:20220504T140750Z
UID:2334-1677612600-1677618000@www.tolleshuntdarcyparishcouncil.gov.uk
SUMMARY:PARISH COUNCIL MEETING
DESCRIPTION:
URL:https://www.tolleshuntdarcyparishcouncil.gov.uk/event/parish-council-meeting-32/
LOCATION:Back Room\, Tolleshunt D’Arcy Village Hall\, Tollesbury Road
END:VEVENT
BEGIN:VEVENT
DTSTART;TZID=UTC:20230131T193000
DTEND;TZID=UTC:20230131T210000
DTSTAMP:20260422T171936
CREATED:20220504T140705Z
LAST-MODIFIED:20220504T140705Z
UID:2332-1675193400-1675198800@www.tolleshuntdarcyparishcouncil.gov.uk
SUMMARY:PARISH COUNCIL MEETING
DESCRIPTION:
URL:https://www.tolleshuntdarcyparishcouncil.gov.uk/event/parish-council-meeting-31/
LOCATION:Back Room\, Tolleshunt D’Arcy Village Hall\, Tollesbury Road
END:VEVENT
BEGIN:VEVENT
DTSTART;TZID=UTC:20230103T193000
DTEND;TZID=UTC:20230103T210000
DTSTAMP:20260422T171936
CREATED:20220504T140429Z
LAST-MODIFIED:20220504T140619Z
UID:2330-1672774200-1672779600@www.tolleshuntdarcyparishcouncil.gov.uk
SUMMARY:PARISH COUNCIL MEETING
DESCRIPTION:
URL:https://www.tolleshuntdarcyparishcouncil.gov.uk/event/parish-council-meeting-30/
LOCATION:Back Room\, Tolleshunt D’Arcy Village Hall\, Tollesbury Road
END:VEVENT
BEGIN:VEVENT
DTSTART;TZID=UTC:20221130T193000
DTEND;TZID=UTC:20221130T213000
DTSTAMP:20260422T171936
CREATED:20221115T172123Z
LAST-MODIFIED:20221115T172123Z
UID:2670-1669836600-1669843800@www.tolleshuntdarcyparishcouncil.gov.uk
SUMMARY:Parish Council Meeting
DESCRIPTION:
URL:https://www.tolleshuntdarcyparishcouncil.gov.uk/event/parish-council-meeting-35/
LOCATION:Back Room\, Tolleshunt D’Arcy Village Hall\, Tollesbury Road
ORGANIZER;CN="Tolleshunt D'Arcy Parish Council":MAILTO:clerk@tolleshuntdarcyparishcouncil.gov.uk
END:VEVENT
BEGIN:VEVENT
DTSTART;TZID=UTC:20221025T193000
DTEND;TZID=UTC:20221025T210000
DTSTAMP:20260422T171936
CREATED:20220504T140346Z
LAST-MODIFIED:20220504T140346Z
UID:2328-1666726200-1666731600@www.tolleshuntdarcyparishcouncil.gov.uk
SUMMARY:PARISH COUNCIL MEETING
DESCRIPTION:
URL:https://www.tolleshuntdarcyparishcouncil.gov.uk/event/parish-council-meeting-29/
LOCATION:Back Room\, Tolleshunt D’Arcy Village Hall\, Tollesbury Road
END:VEVENT
BEGIN:VEVENT
DTSTART;TZID=UTC:20220927T193000
DTEND;TZID=UTC:20220927T210000
DTSTAMP:20260422T171936
CREATED:20220504T140303Z
LAST-MODIFIED:20220504T140303Z
UID:2326-1664307000-1664312400@www.tolleshuntdarcyparishcouncil.gov.uk
SUMMARY:PARISH COUNCIL MEETING
DESCRIPTION:
URL:https://www.tolleshuntdarcyparishcouncil.gov.uk/event/parish-council-meeting-28/
LOCATION:Back Room\, Tolleshunt D’Arcy Village Hall\, Tollesbury Road
END:VEVENT
BEGIN:VEVENT
DTSTART;TZID=UTC:20220830T193000
DTEND;TZID=UTC:20220830T210000
DTSTAMP:20260422T171936
CREATED:20220504T140223Z
LAST-MODIFIED:20220504T140223Z
UID:2324-1661887800-1661893200@www.tolleshuntdarcyparishcouncil.gov.uk
SUMMARY:PARISH COUNCIL MEETING
DESCRIPTION:
URL:https://www.tolleshuntdarcyparishcouncil.gov.uk/event/parish-council-meeting-27/
LOCATION:Back Room\, Tolleshunt D’Arcy Village Hall\, Tollesbury Road
END:VEVENT
BEGIN:VEVENT
DTSTART;TZID=UTC:20220726T193000
DTEND;TZID=UTC:20220726T210000
DTSTAMP:20260422T171936
CREATED:20220504T140131Z
LAST-MODIFIED:20220504T140131Z
UID:2322-1658863800-1658869200@www.tolleshuntdarcyparishcouncil.gov.uk
SUMMARY:PARISH COUNCIL MEETING
DESCRIPTION:
URL:https://www.tolleshuntdarcyparishcouncil.gov.uk/event/parish-council-meeting-26/
END:VEVENT
BEGIN:VEVENT
DTSTART;TZID=UTC:20220628T193000
DTEND;TZID=UTC:20220628T210000
DTSTAMP:20260422T171936
CREATED:20220504T140100Z
LAST-MODIFIED:20220504T140100Z
UID:2320-1656444600-1656450000@www.tolleshuntdarcyparishcouncil.gov.uk
SUMMARY:PARISH COUNCIL MEETING
DESCRIPTION:
URL:https://www.tolleshuntdarcyparishcouncil.gov.uk/event/parish-council-meeting-25/
LOCATION:Back Room\, Tolleshunt D’Arcy Village Hall\, Tollesbury Road
END:VEVENT
BEGIN:VEVENT
DTSTART;TZID=UTC:20220531T193000
DTEND;TZID=UTC:20220531T210000
DTSTAMP:20260422T171936
CREATED:20220504T140019Z
LAST-MODIFIED:20220504T140019Z
UID:2318-1654025400-1654030800@www.tolleshuntdarcyparishcouncil.gov.uk
SUMMARY:PARISH COUNCIL MEETING
DESCRIPTION:
URL:https://www.tolleshuntdarcyparishcouncil.gov.uk/event/parish-council-meeting-24/
LOCATION:Back Room\, Tolleshunt D’Arcy Village Hall\, Tollesbury Road
END:VEVENT
BEGIN:VEVENT
DTSTART;TZID=UTC:20220510T193000
DTEND;TZID=UTC:20220510T193000
DTSTAMP:20260422T171936
CREATED:20220504T135915Z
LAST-MODIFIED:20220504T135915Z
UID:2316-1652211000-1652211000@www.tolleshuntdarcyparishcouncil.gov.uk
SUMMARY:PARISH COUNCIL MEETING
DESCRIPTION:
URL:https://www.tolleshuntdarcyparishcouncil.gov.uk/event/parish-council-meeting-23/
LOCATION:Back Room\, Tolleshunt D’Arcy Village Hall\, Tollesbury Road
END:VEVENT
BEGIN:VEVENT
DTSTART;TZID=UTC:20220426T193000
DTEND;TZID=UTC:20220426T213000
DTSTAMP:20260422T171936
CREATED:20210507T072859Z
LAST-MODIFIED:20210507T072859Z
UID:1804-1651001400-1651008600@www.tolleshuntdarcyparishcouncil.gov.uk
SUMMARY:PARISH COUNCIL MEETING
DESCRIPTION:
URL:https://www.tolleshuntdarcyparishcouncil.gov.uk/event/parish-council-meeting-22/
END:VEVENT
BEGIN:VEVENT
DTSTART;TZID=UTC:20220422T190000
DTEND;TZID=UTC:20220422T213000
DTSTAMP:20260422T171936
CREATED:20220321T085945Z
LAST-MODIFIED:20220321T085945Z
UID:2160-1650654000-1650663000@www.tolleshuntdarcyparishcouncil.gov.uk
SUMMARY:PARISH ANNUAL ASSEMBLY
DESCRIPTION:
URL:https://www.tolleshuntdarcyparishcouncil.gov.uk/event/parish-annual-assembly/
LOCATION:Tolleshunt D’Arcy Village Hall\, Tollesbury Road\, Tolleshunt D'Arcy\, United Kingdom
END:VEVENT
BEGIN:VEVENT
DTSTART;TZID=UTC:20220329T193000
DTEND;TZID=UTC:20220329T213000
DTSTAMP:20260422T171936
CREATED:20210507T072813Z
LAST-MODIFIED:20220321T085812Z
UID:1802-1648582200-1648589400@www.tolleshuntdarcyparishcouncil.gov.uk
SUMMARY:PARISH COUNCIL MEETING
DESCRIPTION:
URL:https://www.tolleshuntdarcyparishcouncil.gov.uk/event/parish-council-meeting-21/
LOCATION:Tolleshunt D’Arcy Village Hall\, Tollesbury Road\, Tolleshunt D'Arcy\, United Kingdom
END:VEVENT
BEGIN:VEVENT
DTSTART;TZID=UTC:20220222T193000
DTEND;TZID=UTC:20220222T213000
DTSTAMP:20260422T171936
CREATED:20210507T072741Z
LAST-MODIFIED:20210507T072741Z
UID:1800-1645558200-1645565400@www.tolleshuntdarcyparishcouncil.gov.uk
SUMMARY:PARISH COUNCIL MEETING
DESCRIPTION:
URL:https://www.tolleshuntdarcyparishcouncil.gov.uk/event/parish-council-meeting-20/
LOCATION:Tolleshunt D’Arcy Village Hall\, Tollesbury Road\, Tolleshunt D'Arcy\, United Kingdom
END:VEVENT
BEGIN:VEVENT
DTSTART;TZID=UTC:20220125T193000
DTEND;TZID=UTC:20220125T213000
DTSTAMP:20260422T171936
CREATED:20210507T072652Z
LAST-MODIFIED:20210507T072652Z
UID:1798-1643139000-1643146200@www.tolleshuntdarcyparishcouncil.gov.uk
SUMMARY:PARISH COUNCIL MEETING
DESCRIPTION:
URL:https://www.tolleshuntdarcyparishcouncil.gov.uk/event/parish-council-meeting-19/
LOCATION:Tolleshunt D’Arcy Village Hall\, Tollesbury Road\, Tolleshunt D'Arcy\, United Kingdom
END:VEVENT
BEGIN:VEVENT
DTSTART;TZID=UTC:20220104T193000
DTEND;TZID=UTC:20220104T213000
DTSTAMP:20260422T171936
CREATED:20210507T072612Z
LAST-MODIFIED:20220103T213330Z
UID:1796-1641324600-1641331800@www.tolleshuntdarcyparishcouncil.gov.uk
SUMMARY:PARISH COUNCIL MEETING - CANCELLED
DESCRIPTION:
URL:https://www.tolleshuntdarcyparishcouncil.gov.uk/event/parish-council-meeting-18/
END:VEVENT
BEGIN:VEVENT
DTSTART;TZID=UTC:20211130T193000
DTEND;TZID=UTC:20211130T213000
DTSTAMP:20260422T171936
CREATED:20210507T072528Z
LAST-MODIFIED:20210507T072528Z
UID:1794-1638300600-1638307800@www.tolleshuntdarcyparishcouncil.gov.uk
SUMMARY:PARISH COUNCIL MEETING
DESCRIPTION:
URL:https://www.tolleshuntdarcyparishcouncil.gov.uk/event/parish-council-meeting-17/
LOCATION:Tolleshunt D’Arcy Village Hall\, Tollesbury Road\, Tolleshunt D'Arcy\, United Kingdom
END:VEVENT
BEGIN:VEVENT
DTSTART;TZID=UTC:20211026T193000
DTEND;TZID=UTC:20211026T213000
DTSTAMP:20260422T171936
CREATED:20210507T072434Z
LAST-MODIFIED:20210507T072434Z
UID:1792-1635276600-1635283800@www.tolleshuntdarcyparishcouncil.gov.uk
SUMMARY:PARISH COUNCIL MEETING
DESCRIPTION:
URL:https://www.tolleshuntdarcyparishcouncil.gov.uk/event/parish-council-meeting-16/
LOCATION:Tolleshunt D’Arcy Village Hall\, Tollesbury Road\, Tolleshunt D'Arcy\, United Kingdom
END:VEVENT
BEGIN:VEVENT
DTSTART;TZID=UTC:20210928T193000
DTEND;TZID=UTC:20210928T213000
DTSTAMP:20260422T171936
CREATED:20210507T072349Z
LAST-MODIFIED:20210507T072349Z
UID:1790-1632857400-1632864600@www.tolleshuntdarcyparishcouncil.gov.uk
SUMMARY:PARISH COUNCIL MEETING
DESCRIPTION:
URL:https://www.tolleshuntdarcyparishcouncil.gov.uk/event/parish-council-meeting-15/
LOCATION:Tolleshunt D’Arcy Village Hall\, Tollesbury Road\, Tolleshunt D'Arcy\, United Kingdom
END:VEVENT
BEGIN:VEVENT
DTSTART;TZID=UTC:20210831T193000
DTEND;TZID=UTC:20210831T213000
DTSTAMP:20260422T171936
CREATED:20210507T072311Z
LAST-MODIFIED:20210507T072311Z
UID:1788-1630438200-1630445400@www.tolleshuntdarcyparishcouncil.gov.uk
SUMMARY:PARISH COUNCIL MEETING
DESCRIPTION:
URL:https://www.tolleshuntdarcyparishcouncil.gov.uk/event/parish-council-meeting-14/
LOCATION:Tolleshunt D’Arcy Village Hall\, Tollesbury Road\, Tolleshunt D'Arcy\, United Kingdom
END:VEVENT
BEGIN:VEVENT
DTSTART;TZID=UTC:20210727T193000
DTEND;TZID=UTC:20210727T213000
DTSTAMP:20260422T171936
CREATED:20210507T072226Z
LAST-MODIFIED:20210507T072226Z
UID:1785-1627414200-1627421400@www.tolleshuntdarcyparishcouncil.gov.uk
SUMMARY:PARISH COUNCIL MEETING
DESCRIPTION:
URL:https://www.tolleshuntdarcyparishcouncil.gov.uk/event/parish-council-meeting-13/
LOCATION:Tolleshunt D’Arcy Village Hall\, Tollesbury Road\, Tolleshunt D'Arcy\, United Kingdom
END:VEVENT
END:VCALENDAR